BEGIN:VCALENDAR
VERSION:2.0
PRODID:-//R Marine Crawley - ECPv4.6.10//NONSGML v1.0//EN
CALSCALE:GREGORIAN
METHOD:PUBLISH
X-WR-CALNAME:R Marine Crawley
X-ORIGINAL-URL:http://www.rmarinecrawley.com.au
X-WR-CALDESC:Events for R Marine Crawley
BEGIN:VEVENT
DTSTART;TZID=Australia/Brisbane:20180323T080000
DTEND;TZID=Australia/Brisbane:20180402T170000
DTSTAMP:20180226T090506
CREATED:20171211T015721Z
LAST-MODIFIED:20180125T003809Z
UID:9669-1521792000-1522688400@www.rmarinecrawley.com.au
SUMMARY:Hawkesbury River Experience
DESCRIPTION:Join us as we make our way south towards to the Iconic Hawkesbury River. \n  \nPlease use the form below to register for our event. \n\n\n\n\n\n\n\n\n\n\nYour Name (required)\n      \nYour Email (required)\n      \nYour Phone\n      \nHow many Adults?\n      \nHow many Children?\n      \nBoat Details\n      \nYour Message/Questions\n      \nPlease prove your human \n\n\n	\n		\n			\n				\n				\n			\n			\n				\n				\n			\n		\n	\n\n\n \n\n
URL:http://www.rmarinecrawley.com.au/event/hawkesbury-river-experience/
LOCATION:Shop 1A 247 Bayview St Runaway Bay\, Gold Coast\, Queensland\, 4216\, Australia
ATTACH;FMTTYPE=image/jpeg:http://www.rmarinecrawley.com.au/wp-content/uploads/2017/12/CRIMSON-Open-Edition-Recovered-1.jpg
ORGANIZER;CN="Johanna%20Shorten":MAILTO:info@rmarinecrawley.com.au
END:VEVENT
BEGIN:VEVENT
DTSTART;TZID=Australia/Brisbane:20180524T080000
DTEND;TZID=Australia/Brisbane:20180527T170000
DTSTAMP:20180226T090506
CREATED:20171211T053801Z
LAST-MODIFIED:20180109T013409Z
UID:9701-1527148800-1527440400@www.rmarinecrawley.com.au
SUMMARY:Riviera Festival of Boating
DESCRIPTION:Join R Marine Crawley as we celebrate Rivieras at the Festival of Boating. \nPlease use the form below to register for our event. \n\n\n\n\n\n\n\n\n\n\nYour Name (required)\n      \nYour Email (required)\n      \nYour Phone\n      \nHow many Adults?\n      \nHow many Children?\n      \nBoat Details\n      \nYour Message/Questions\n      \nPlease prove your human \n\n\n	\n		\n			\n				\n				\n			\n			\n				\n				\n			\n		\n	\n\n\n \n\n
URL:http://www.rmarinecrawley.com.au/event/riviera-festival-boating/
LOCATION:Waterways Dr\, Coomera\, QLD\, 4209\, Australia
ATTACH;FMTTYPE=image/jpeg:http://www.rmarinecrawley.com.au/wp-content/uploads/2017/12/festival2018-headline-2.jpg
ORGANIZER;CN="Johanna%20Shorten":MAILTO:info@rmarinecrawley.com.au
END:VEVENT
BEGIN:VEVENT
DTSTART;TZID=Australia/Brisbane:20180607T100000
DTEND;TZID=Australia/Brisbane:20180607T140000
DTSTAMP:20180226T090506
CREATED:20171211T061235Z
LAST-MODIFIED:20180109T014434Z
UID:9711-1528365600-1528380000@www.rmarinecrawley.com.au
SUMMARY:Lady Skippers Day
DESCRIPTION:Hosted by Lady Skipper\, Karla Herbert-Evans and R Marine Crawley. \nLady Skippers Day is a chance for lady’s to learn and gain confidence on boats. \nWith Karla’s wealth of knowledge and the R Marine Crawley team to guide you\, you will be sure to have a great day. \nPlease use the form below to register for our event. \n\n\n\n\n\n\n\n\n\n\nYour Name (required)\n      \nYour Email (required)\n      \nYour Phone\n      \nHow many Adults?\n      \nHow many Children?\n      \nBoat Details\n      \nYour Message/Questions\n      \nPlease prove your human \n\n\n	\n		\n			\n				\n				\n			\n			\n				\n				\n			\n		\n	\n\n\n \n\n
URL:http://www.rmarinecrawley.com.au/event/lady-skippers-day-2/
LOCATION:Shop 1A Runaway Bay Marina\, Queensland\, 4216
ATTACH;FMTTYPE=image/jpeg:http://www.rmarinecrawley.com.au/wp-content/uploads/2017/12/lsd-3.jpg
ORGANIZER;CN="Johanna%20Shorten":MAILTO:info@rmarinecrawley.com.au
END:VEVENT
BEGIN:VEVENT
DTSTART;TZID=Australia/Brisbane:20180607T170000
DTEND;TZID=Australia/Brisbane:20180607T190000
DTSTAMP:20180226T090506
CREATED:20171211T063153Z
LAST-MODIFIED:20180109T044431Z
UID:9720-1528390800-1528398000@www.rmarinecrawley.com.au
SUMMARY:Marine Tips & Tricks
DESCRIPTION:R Marne Crawley’s –  Marine Tips & Tricks for maintaining your boats all year round. \nPlease use the form below to register for our event. \n\n\n\n\n\n\n\n\n\n\nYour Name (required)\n      \nYour Email (required)\n      \nYour Phone\n      \nHow many Adults?\n      \nHow many Children?\n      \nBoat Details\n      \nYour Message/Questions\n      \nPlease prove your human \n\n\n	\n		\n			\n				\n				\n			\n			\n				\n				\n			\n		\n	\n\n\n \n\n
URL:http://www.rmarinecrawley.com.au/event/marine-tips-tricks-6/
LOCATION:Shop 1A Runaway Bay Marina\, Gold Coast\, Queensland\, 4216
ATTACH;FMTTYPE=image/jpeg:http://www.rmarinecrawley.com.au/wp-content/uploads/2017/12/MARINE-TIPS-TRICKS.jpg
ORGANIZER;CN="Johanna%20Shorten":MAILTO:info@rmarinecrawley.com.au
END:VEVENT
BEGIN:VEVENT
DTSTART;TZID=Australia/Brisbane:20180608T080000
DTEND;TZID=Australia/Brisbane:20180611T170000
DTSTAMP:20180226T090506
CREATED:20171215T020608Z
LAST-MODIFIED:20180109T015054Z
UID:9780-1528444800-1528736400@www.rmarinecrawley.com.au
SUMMARY:Gold Coast Weekend Getaway
DESCRIPTION:Join R Marine Crawley for a weekend getaway in our own backyard. \nEnjoy the stunning Broadwater in all her winter glory. \nPlease use the form below to register for our event. \n\n\n\n\n\n\n\n\n\n\nYour Name (required)\n      \nYour Email (required)\n      \nYour Phone\n      \nHow many Adults?\n      \nHow many Children?\n      \nBoat Details\n      \nYour Message/Questions\n      \nPlease prove your human \n\n\n	\n		\n			\n				\n				\n			\n			\n				\n				\n			\n		\n	\n\n\n \n\n
URL:http://www.rmarinecrawley.com.au/event/gold-coast-weekend-getaway/
LOCATION:Shop 1A 247 Bayview St Runaway Bay\, RUNAWAY BAY\, Queensland\, 4216\, Australia
ATTACH;FMTTYPE=image/jpeg:http://www.rmarinecrawley.com.au/wp-content/uploads/2017/12/Gold-Coast-Weekend-Getaway-2018-1.jpg
ORGANIZER;CN="Johanna%20Shorten":MAILTO:info@rmarinecrawley.com.au
END:VEVENT
BEGIN:VEVENT
DTSTART;TZID=Australia/Brisbane:20180719T080000
DTEND;TZID=Australia/Brisbane:20180729T170000
DTSTAMP:20180226T090506
CREATED:20171211T065901Z
LAST-MODIFIED:20180109T015249Z
UID:9732-1531987200-1532883600@www.rmarinecrawley.com.au
SUMMARY:Whitsundays Experience
DESCRIPTION:Join R Marine Crawley and explore the stunning Whitsundays. \nDates to be confirmed. \nPlease use the form below to register for our event. \n\n\n\n\n\n\n\n\n\n\nYour Name (required)\n      \nYour Email (required)\n      \nYour Phone\n      \nHow many Adults?\n      \nHow many Children?\n      \nBoat Details\n      \nYour Message/Questions\n      \nPlease prove your human \n\n\n	\n		\n			\n				\n				\n			\n			\n				\n				\n			\n		\n	\n\n\n \n\n
URL:http://www.rmarinecrawley.com.au/event/9732/
LOCATION:Shop 1A Runaway Bay Marina\, Gold Coast\, QLD\, 4216\, Australia
ATTACH;FMTTYPE=image/jpeg:http://www.rmarinecrawley.com.au/wp-content/uploads/2017/12/Whitsundays-Experience-1.jpg1_-1.jpg
ORGANIZER;CN="Johanna%20Shorten":MAILTO:info@rmarinecrawley.com.au
END:VEVENT
BEGIN:VEVENT
DTSTART;TZID=Australia/Brisbane:20180803T080000
DTEND;TZID=Australia/Brisbane:20180807T170000
DTSTAMP:20180226T090506
CREATED:20171215T025710Z
LAST-MODIFIED:20180109T015511Z
UID:9789-1533283200-1533661200@www.rmarinecrawley.com.au
SUMMARY:SYDNEY INTERNATIONAL BOAT SHOW
DESCRIPTION:The Team at R Marine Crawley look forward to seeing you at the Sydney International Boat Show. \nPlease use the form below to register for our event. \n\n\n\n\n\n\n\n\n\n\nYour Name (required)\n      \nYour Email (required)\n      \nYour Phone\n      \nHow many Adults?\n      \nHow many Children?\n      \nBoat Details\n      \nYour Message/Questions\n      \nPlease prove your human \n\n\n	\n		\n			\n				\n				\n			\n			\n				\n				\n			\n		\n	\n\n\n \n\n
URL:http://www.rmarinecrawley.com.au/event/sydney-international-boat-show-2/
LOCATION:Sydney\, NSW\, 2000\, Australia
ATTACH;FMTTYPE=image/jpeg:http://www.rmarinecrawley.com.au/wp-content/uploads/2017/12/SYDNEY-BOAT-SHOW-2018-1.jpg
ORGANIZER;CN="Johanna%20Shorten":MAILTO:info@rmarinecrawley.com.au
END:VEVENT
BEGIN:VEVENT
DTSTART;TZID=Australia/Brisbane:20180922T080000
DTEND;TZID=Australia/Brisbane:20180930T170000
DTSTAMP:20180226T090506
CREATED:20171215T054055Z
LAST-MODIFIED:20180109T015815Z
UID:9801-1537603200-1538326800@www.rmarinecrawley.com.au
SUMMARY:LADY MUSGRAVE ISLAND ESCAPE
DESCRIPTION:Join R Marine Crawley as we explore the beautiful surrounds of Lady Musgrave Island. \nPlease use the form below to register for our event. \n\n\n\n\n\n\n\n\n\n\nYour Name (required)\n      \nYour Email (required)\n      \nYour Phone\n      \nHow many Adults?\n      \nHow many Children?\n      \nBoat Details\n      \nYour Message/Questions\n      \nPlease prove your human \n\n\n	\n		\n			\n				\n				\n			\n			\n				\n				\n			\n		\n	\n\n\n \n\n
URL:http://www.rmarinecrawley.com.au/event/lady-musgrave-island-escape/
LOCATION:Great Barrier Reef\, Coomera\, QLD\, 4209\, Australia
ATTACH;FMTTYPE=image/jpeg:http://www.rmarinecrawley.com.au/wp-content/uploads/2017/12/LMI-ESCAPE-1.jpg
ORGANIZER;CN="Johanna%20Shorten":MAILTO:info@rmarinecrawley.com.au
END:VEVENT
BEGIN:VEVENT
DTSTART;TZID=Australia/Brisbane:20181101T100000
DTEND;TZID=Australia/Brisbane:20181101T140000
DTSTAMP:20180226T090506
CREATED:20171215T060954Z
LAST-MODIFIED:20180109T020005Z
UID:9811-1541066400-1541080800@www.rmarinecrawley.com.au
SUMMARY:Lady Skippers Day
DESCRIPTION:A day of Learning and laughter. \nWith the knowledge and expertise of Karla Herbert-Evans the ladies get a chance to gain confidence on the water. \nPlease use the form below to register for our event. \n\n\n\n\n\n\n\n\n\n\nYour Name (required)\n      \nYour Email (required)\n      \nYour Phone\n      \nHow many Adults?\n      \nHow many Children?\n      \nBoat Details\n      \nYour Message/Questions\n      \nPlease prove your human \n\n\n	\n		\n			\n				\n				\n			\n			\n				\n				\n			\n		\n	\n\n\n \n\n
URL:http://www.rmarinecrawley.com.au/event/lady-skippers-day-3/
LOCATION:Shop 1A 247 Bayview St Runaway Bay\, Gold Coast\, Queensland\, 4216\, Australia
ATTACH;FMTTYPE=image/jpeg:http://www.rmarinecrawley.com.au/wp-content/uploads/2017/12/Lady-Skippers-Nov-18.jpg
ORGANIZER;CN="Johanna%20Shorten":MAILTO:info@rmarinecrawley.com.au
END:VEVENT
BEGIN:VEVENT
DTSTART;TZID=Australia/Brisbane:20181101T170000
DTEND;TZID=Australia/Brisbane:20181101T190000
DTSTAMP:20180226T090506
CREATED:20171218T014936Z
LAST-MODIFIED:20180109T020300Z
UID:9824-1541091600-1541098800@www.rmarinecrawley.com.au
SUMMARY:Marine Tips & Tricks
DESCRIPTION:Join the crew at R Marine Crawley for our Marine Tips & Tricks. \nA great way to learn new tips as well as a few tricks on looking after your boats. \nPlease use the form below to register for our event. \n\n\n\n\n\n\n\n\n\n\nYour Name (required)\n      \nYour Email (required)\n      \nYour Phone\n      \nHow many Adults?\n      \nHow many Children?\n      \nBoat Details\n      \nYour Message/Questions\n      \nPlease prove your human \n\n\n	\n		\n			\n				\n				\n			\n			\n				\n				\n			\n		\n	\n\n\n \n\n
URL:http://www.rmarinecrawley.com.au/event/marine-tips-tricks-7/
LOCATION:Shop 1A Runaway Bay Marina\, Gold Coast\, Queensland\, 4216
ATTACH;FMTTYPE=image/jpeg:http://www.rmarinecrawley.com.au/wp-content/uploads/2017/12/Marien-Tips-Tricks-Nov-18.jpg
ORGANIZER;CN="Johanna%20Shorten":MAILTO:info@rmarinecrawley.com.au
END:VEVENT
END:VCALENDAR